BEGIN:VCALENDAR
VERSION:2.0
PRODID:-//Emerald Coast Fellowship - ECPv6.13.2.1//NONSGML v1.0//EN
CALSCALE:GREGORIAN
METHOD:PUBLISH
X-WR-CALNAME:Emerald Coast Fellowship
X-ORIGINAL-URL:https://emeraldcoastfellowship.com
X-WR-CALDESC:Events for Emerald Coast Fellowship
REFRESH-INTERVAL;VALUE=DURATION:PT1H
X-Robots-Tag:noindex
X-PUBLISHED-TTL:PT1H
BEGIN:VTIMEZONE
TZID:America/Chicago
BEGIN:DAYLIGHT
TZOFFSETFROM:-0600
TZOFFSETTO:-0500
TZNAME:CDT
DTSTART:20230312T080000
END:DAYLIGHT
BEGIN:STANDARD
TZOFFSETFROM:-0500
TZOFFSETTO:-0600
TZNAME:CST
DTSTART:20231105T070000
END:STANDARD
END:VTIMEZONE
BEGIN:VEVENT
DTSTART;TZID=America/Chicago:20231105T120000
DTEND;TZID=America/Chicago:20231105T150000
DTSTAMP:20260420T113004
CREATED:20230802T181146Z
LAST-MODIFIED:20231025T224139Z
UID:10000290-1699185600-1699196400@emeraldcoastfellowship.com
SUMMARY:Tailgate Sunday
DESCRIPTION:Sunday\, November 5th\, we will be holding Tailgate Sunday in the Church parking lot. Each small group will be assigned a food to bring for this pot-luck style meal immediately following second service! \nWhat is the schedule for the day? \nSunday\, Nov. 5th – We encourage everyone to attend church as normal and come early to set up your tailgate. \n8:15AM 1st Service | 9:30AM Small Groups | 10:45AM 2nd Service \n12 – 2:30PM Tailgate Sunday \nWhat do I wear that day to church and the Tailgate event? \nWe are encouraging everyone to wear their favorite team jersey to not only the event but also to church that day! This could be your favorite professional team or even the current school you attend\, alumni high school or a local school you affiliate with in the community. Think very casual! \nWhat do I bring to Tailgate Sunday? \nBring what you would typically to set up your own tailgate celebration…lawn chairs\, tent\, yard games\, picnic blankets\, etc. Lunch will be provided. \nWhere do I set up my tailgate? \nThis year we are setting up by the Wreck (6-plex modulars) \nParking Lots: Paved & gravel lots on the south side of campus (toward Arbor Trace Apartments) \nWhere do I park if I do not bring a tent or want to tailgate? \nNorthwest side of campus (near the Pavilion) \nNorth side of campus (between ECF and First Choice) \nWill there be any covered seating provided? \nYes\, there will be air conditioned seating provided for our senior adults at the Wreck. We are counting on the rest of our church family to provide their own seating by bringing lawn chairs & picnic blankets. \nHow do I sign up to bring a dish/food item? \nBring your dish/food item in a disposable container with disposable serving utensils. This makes the clean up very simple. There will be a tent set up for serving food.  Copy the link to sign up. https://docs.google.com/forms/d/e/1FAIpQLSeodNAdNqCl14c0n3YkV5YeoSXqOa4KgbACmLV8hvNBYF2wxQ/viewform?vc=0&c=0&w=1&flr=0 \nMay I invite a friend/family? \nYes! Invite your friends and family to the event especially if they are not involved in a local church! It’s a great way for them to be introduced to our church family. \nHow can I help? \nCopy the link to find an area to serve! https://docs.google.com/forms/d/e/1FAIpQLSeodNAdNqCl14c0n3YkV5YeoSXqOa4KgbACmLV8hvNBYF2wxQ/viewform?vc=0&c=0&w=1&flr=0
URL:https://emeraldcoastfellowship.com/event/tailgate-sunday/
LOCATION:Emerald Coast Fellowship\, 4102 W. Hwy 390\, Lynn Haven\, FL\, 32404\, United States
CATEGORIES:Church Wide 1
ATTACH;FMTTYPE=image/png:https://emeraldcoastfellowship.com/wp-content/uploads/2023/08/Tailgate-Sunday-Branding.png
ORGANIZER;CN="Jennifer Sims":MAILTO:jsims@emeraldcoastfellowship.com
END:VEVENT
BEGIN:VEVENT
DTSTART;TZID=America/Chicago:20231105T120000
DTEND;TZID=America/Chicago:20231105T150000
DTSTAMP:20260420T113004
CREATED:20230802T181146Z
LAST-MODIFIED:20230802T181146Z
UID:10000386-1699185600-1699196400@emeraldcoastfellowship.com
SUMMARY:Tailgate Sunday
DESCRIPTION:Sunday\, November 5th\, we will be holding Tailgate Sunday in the Church parking lot. Each small group will be assigned a food to bring for this pot-luck style meal immediately following second service! \nWhat is the schedule for the day? \nSunday\, Nov. 5th – We encourage everyone to attend church as normal and come early to set up your tailgate. \n8:15AM 1st Service | 9:30AM Small Groups | 10:45AM 2nd Service \n12 – 2:30PM Tailgate Sunday \nWhat do I wear that day to church and the Tailgate event? \nWe are encouraging everyone to wear their favorite team jersey to not only the event but also to church that day! This could be your favorite professional team or even the current school you attend\, alumni high school or a local school you affiliate with in the community. Think very casual! \nWhat do I bring to Tailgate Sunday? \nBring what you would typically to set up your own tailgate celebration…lawn chairs\, tent\, yard games\, picnic blankets\, etc. Lunch will be provided. \nWhere do I set up my tailgate? \nThis year we are setting up by the Wreck (6-plex modulars) \nParking Lots: Paved & gravel lots on the south side of campus (toward Arbor Trace Apartments) \nWhere do I park if I do not bring a tent or want to tailgate? \nNorthwest side of campus (near the Pavilion) \nNorth side of campus (between ECF and First Choice) \nWill there be any covered seating provided? \nYes\, there will be air conditioned seating provided for our senior adults at the Wreck. We are counting on the rest of our church family to provide their own seating by bringing lawn chairs & picnic blankets. \nHow do I sign up to bring a dish/food item? \nBring your dish/food item in a disposable container with disposable serving utensils. This makes the clean up very simple. There will be a tent set up for serving food.  Copy the link to sign up. https://docs.google.com/forms/d/e/1FAIpQLSeodNAdNqCl14c0n3YkV5YeoSXqOa4KgbACmLV8hvNBYF2wxQ/viewform?vc=0&c=0&w=1&flr=0 \nMay I invite a friend/family? \nYes! Invite your friends and family to the event especially if they are not involved in a local church! It’s a great way for them to be introduced to our church family. \nHow can I help? \nCopy the link to find an area to serve! https://docs.google.com/forms/d/e/1FAIpQLSeodNAdNqCl14c0n3YkV5YeoSXqOa4KgbACmLV8hvNBYF2wxQ/viewform?vc=0&c=0&w=1&flr=0
URL:https://emeraldcoastfellowship.com/event/tailgate-sunday-4/
LOCATION:Emerald Coast Fellowship\, 4102 W. Hwy 390\, Lynn Haven\, FL\, 32404\, United States
CATEGORIES:Church Wide 1
ATTACH;FMTTYPE=image/png:https://emeraldcoastfellowship.com/wp-content/uploads/2023/08/Tailgate-Sunday-Branding.png
ORGANIZER;CN="Jennifer Sims":MAILTO:jsims@emeraldcoastfellowship.com
END:VEVENT
BEGIN:VEVENT
DTSTART;TZID=America/Chicago:20231105T120000
DTEND;TZID=America/Chicago:20231105T150000
DTSTAMP:20260420T113004
CREATED:20230802T181146Z
LAST-MODIFIED:20230802T181146Z
UID:10000484-1699185600-1699196400@emeraldcoastfellowship.com
SUMMARY:Tailgate Sunday
DESCRIPTION:Sunday\, November 5th\, we will be holding Tailgate Sunday in the Church parking lot. Each small group will be assigned a food to bring for this pot-luck style meal immediately following second service! \nWhat is the schedule for the day? \nSunday\, Nov. 5th – We encourage everyone to attend church as normal and come early to set up your tailgate. \n8:15AM 1st Service | 9:30AM Small Groups | 10:45AM 2nd Service \n12 – 2:30PM Tailgate Sunday \nWhat do I wear that day to church and the Tailgate event? \nWe are encouraging everyone to wear their favorite team jersey to not only the event but also to church that day! This could be your favorite professional team or even the current school you attend\, alumni high school or a local school you affiliate with in the community. Think very casual! \nWhat do I bring to Tailgate Sunday? \nBring what you would typically to set up your own tailgate celebration…lawn chairs\, tent\, yard games\, picnic blankets\, etc. Lunch will be provided. \nWhere do I set up my tailgate? \nThis year we are setting up by the Wreck (6-plex modulars) \nParking Lots: Paved & gravel lots on the south side of campus (toward Arbor Trace Apartments) \nWhere do I park if I do not bring a tent or want to tailgate? \nNorthwest side of campus (near the Pavilion) \nNorth side of campus (between ECF and First Choice) \nWill there be any covered seating provided? \nYes\, there will be air conditioned seating provided for our senior adults at the Wreck. We are counting on the rest of our church family to provide their own seating by bringing lawn chairs & picnic blankets. \nHow do I sign up to bring a dish/food item? \nBring your dish/food item in a disposable container with disposable serving utensils. This makes the clean up very simple. There will be a tent set up for serving food.  Copy the link to sign up. https://docs.google.com/forms/d/e/1FAIpQLSeodNAdNqCl14c0n3YkV5YeoSXqOa4KgbACmLV8hvNBYF2wxQ/viewform?vc=0&c=0&w=1&flr=0 \nMay I invite a friend/family? \nYes! Invite your friends and family to the event especially if they are not involved in a local church! It’s a great way for them to be introduced to our church family. \nHow can I help? \nCopy the link to find an area to serve! https://docs.google.com/forms/d/e/1FAIpQLSeodNAdNqCl14c0n3YkV5YeoSXqOa4KgbACmLV8hvNBYF2wxQ/viewform?vc=0&c=0&w=1&flr=0
URL:https://emeraldcoastfellowship.com/event/tailgate-sunday-5/
LOCATION:Emerald Coast Fellowship\, 4102 W. Hwy 390\, Lynn Haven\, FL\, 32404\, United States
CATEGORIES:Church Wide 1
ATTACH;FMTTYPE=image/png:https://emeraldcoastfellowship.com/wp-content/uploads/2023/08/Tailgate-Sunday-Branding.png
ORGANIZER;CN="Jennifer Sims":MAILTO:jsims@emeraldcoastfellowship.com
END:VEVENT
BEGIN:VEVENT
DTSTART;TZID=America/Chicago:20231115T160000
DTEND;TZID=America/Chicago:20231115T180000
DTSTAMP:20260420T113004
CREATED:20230808T160838Z
LAST-MODIFIED:20230831T192811Z
UID:10000292-1700064000-1700071200@emeraldcoastfellowship.com
SUMMARY:ECF Thanksgiving
DESCRIPTION:We want to invite you and your family to join us for an ECF Thanksgiving beginning at 4PM!  We will be serving all of the fixins’: ham\, turkey\, mashed potatoes and gravy!  There will be brown-bag meals available for children (chicken nuggets).  After dinner at 6PM\, Dr. Steve will give a message and we will participate in the Lord’s Supper family style around the tables.  Children and student activities will go on as usual.  Cost: $9/adults\, $25 per household\, $3 children (7-12 yrs)\, 6 yrs & under are free.
URL:https://emeraldcoastfellowship.com/event/thanksgiving/
LOCATION:Emerald Coast Fellowship\, 4102 W. Hwy 390\, Lynn Haven\, FL\, 32404\, United States
CATEGORIES:Church Wide 1
ATTACH;FMTTYPE=image/png:https://emeraldcoastfellowship.com/wp-content/uploads/2023/08/Thanksgiving.png
ORGANIZER;CN="Jennifer Sims":MAILTO:jsims@emeraldcoastfellowship.com
END:VEVENT
BEGIN:VEVENT
DTSTART;TZID=America/Chicago:20231115T160000
DTEND;TZID=America/Chicago:20231115T180000
DTSTAMP:20260420T113004
CREATED:20230808T160838Z
LAST-MODIFIED:20230808T160838Z
UID:10000388-1700064000-1700071200@emeraldcoastfellowship.com
SUMMARY:ECF Thanksgiving
DESCRIPTION:We want to invite you and your family to join us for an ECF Thanksgiving beginning at 4PM!  We will be serving all of the fixins’: ham\, turkey\, mashed potatoes and gravy!  There will be brown-bag meals available for children (chicken nuggets).  After dinner at 6PM\, Dr. Steve will give a message and we will participate in the Lord’s Supper family style around the tables.  Children and student activities will go on as usual.  Cost: $9/adults\, $25 per household\, $3 children (7-12 yrs)\, 6 yrs & under are free.
URL:https://emeraldcoastfellowship.com/event/thanksgiving-2/
LOCATION:Emerald Coast Fellowship\, 4102 W. Hwy 390\, Lynn Haven\, FL\, 32404\, United States
CATEGORIES:Church Wide 1
ATTACH;FMTTYPE=image/png:https://emeraldcoastfellowship.com/wp-content/uploads/2023/08/Thanksgiving.png
ORGANIZER;CN="Jennifer Sims":MAILTO:jsims@emeraldcoastfellowship.com
END:VEVENT
BEGIN:VEVENT
DTSTART;TZID=America/Chicago:20231115T160000
DTEND;TZID=America/Chicago:20231115T180000
DTSTAMP:20260420T113004
CREATED:20230808T160838Z
LAST-MODIFIED:20230808T160838Z
UID:10000486-1700064000-1700071200@emeraldcoastfellowship.com
SUMMARY:ECF Thanksgiving
DESCRIPTION:We want to invite you and your family to join us for an ECF Thanksgiving beginning at 4PM!  We will be serving all of the fixins’: ham\, turkey\, mashed potatoes and gravy!  There will be brown-bag meals available for children (chicken nuggets).  After dinner at 6PM\, Dr. Steve will give a message and we will participate in the Lord’s Supper family style around the tables.  Children and student activities will go on as usual.  Cost: $9/adults\, $25 per household\, $3 children (7-12 yrs)\, 6 yrs & under are free.
URL:https://emeraldcoastfellowship.com/event/thanksgiving-3/
LOCATION:Emerald Coast Fellowship\, 4102 W. Hwy 390\, Lynn Haven\, FL\, 32404\, United States
CATEGORIES:Church Wide 1
ATTACH;FMTTYPE=image/png:https://emeraldcoastfellowship.com/wp-content/uploads/2023/08/Thanksgiving.png
ORGANIZER;CN="Jennifer Sims":MAILTO:jsims@emeraldcoastfellowship.com
END:VEVENT
END:VCALENDAR