BEGIN:VCALENDAR
VERSION:2.0
PRODID:-//Emerald Coast Fellowship - ECPv6.13.2.1//NONSGML v1.0//EN
CALSCALE:GREGORIAN
METHOD:PUBLISH
X-ORIGINAL-URL:https://emeraldcoastfellowship.com
X-WR-CALDESC:Events for Emerald Coast Fellowship
REFRESH-INTERVAL;VALUE=DURATION:PT1H
X-Robots-Tag:noindex
X-PUBLISHED-TTL:PT1H
BEGIN:VTIMEZONE
TZID:America/Chicago
BEGIN:DAYLIGHT
TZOFFSETFROM:-0600
TZOFFSETTO:-0500
TZNAME:CDT
DTSTART:20260308T080000
END:DAYLIGHT
BEGIN:STANDARD
TZOFFSETFROM:-0500
TZOFFSETTO:-0600
TZNAME:CST
DTSTART:20261101T070000
END:STANDARD
END:VTIMEZONE
BEGIN:VEVENT
DTSTART;VALUE=DATE:20260601
DTEND;VALUE=DATE:20260606
DTSTAMP:20260421T190942
CREATED:20260113T170829Z
LAST-MODIFIED:20260113T170840Z
UID:10000581-1780272000-1780703999@emeraldcoastfellowship.com
SUMMARY:Wreck Camp
DESCRIPTION:Wreck Camp Registration – Step 1 🛠️ \n📅 Dates: Monday\, June 1 – Friday\, June 5\, 2026 \n\n\nRegistration is open until midnight on Wednesday\, January 28th. \n\n\nAfter this date\, unfilled spots will be canceled\, and you will not be able to reserve a spot. \n\n\nECF will be charged for all reserved spots after the deadline\, and refunds cannot be issued for cancellations after this date. \n\n\nStep 1 of registration: Submit this form. Registration is not confirmed until both this form is submitted and payment is received. \n\n\nNeed financial assistance? Contact Lacie Wilmot at lwilmot@emeraldcoastfellowship.com. \n\n\nSecure your spot before the deadline to guarantee your child’s participation!
URL:https://emeraldcoastfellowship.com/event/wreck-camp-2/
LOCATION:Shocco Springs Conference Center
CATEGORIES:The Wreck
ATTACH;FMTTYPE=image/png:https://emeraldcoastfellowship.com/wp-content/uploads/2026/01/5.png
ORGANIZER;CN="Doug Moore":MAILTO:dmoore@emeraldcoastfellowship.com
END:VEVENT
BEGIN:VEVENT
DTSTART;TZID=America/Chicago:20260622T173000
DTEND;TZID=America/Chicago:20260625T200000
DTSTAMP:20260421T190942
CREATED:20260113T174309Z
LAST-MODIFIED:20260113T174311Z
UID:10000582-1782149400-1782417600@emeraldcoastfellowship.com
SUMMARY:VBS 2026: Illumination Station
DESCRIPTION:🌟 VBS 2026: Illumination Station 🌟 \nGet ready for the brightest week of the year! Your kids are invited to Illumination Station VBS\, where they’ll discover who Jesus really is and how His light brightens\, illuminates\, reflects\, and reveals. \n📅 When: Monday\, June 22 – Thursday\, June 25\, 2026📍 Where: Emerald Coast Fellowship \n✨ Important Info: \n\n\nRegister your child for the grade they will have completed in summer 2026. \n\n\nFor example\, a child currently in 2nd grade should be registered as completed 2nd grade. \n\n\nJoin us for a week full of fun\, learning\, and light! Let your kids experience the joy of Jesus’ love in a bright and unforgettable way. \n🔗 Register now: https://onrealm.org/EmeraldCoastFel/PublicRegistrations/Event?linkString=NjhhZDJmZTctNDA4MC00YzRlLTk3YmItYjNjMTAwMWEwZDYy
URL:https://emeraldcoastfellowship.com/event/vbs-2026-illumination-station/
LOCATION:Emerald Coast Fellowship\, 4102 W. Hwy 390\, Lynn Haven\, FL\, 32404\, United States
CATEGORIES:Kids
ATTACH;FMTTYPE=image/png:https://emeraldcoastfellowship.com/wp-content/uploads/2026/01/Sunday-February-1st-2.png
ORGANIZER;CN="Bridgette Jencks":MAILTO:bjencks@emeraldcoastfellowship.com
END:VEVENT
END:VCALENDAR